BEGIN:VCALENDAR
VERSION:2.0
PRODID:-//OneGov//onegov.event//
BEGIN:VEVENT
SUMMARY:UBS Kids Cup
DTSTART:20230606T160000Z
DTEND:20230606T200000Z
DTSTAMP:20230508T051623Z
UID:ubs-kids-cup-4-2023-06-06@onegov.event
CATEGORIES:Sports
DESCRIPTION:Spannender sportlicher Disziplinen-Wettkampf für Primarschül
 er
LAST-MODIFIED:20230508T051623Z
LOCATION:Mehrzweckanlage Schule Lauerz
URL:https://www.lauerz.ch/event/ubs-kids-cup-4-2023-06-06
END:VEVENT
END:VCALENDAR
