BEGIN:VCALENDAR
VERSION:2.0
PRODID:-//OneGov//onegov.event//
BEGIN:VEVENT
SUMMARY:Turn - Dschungel
DTSTART:20230208T140000Z
DTEND:20230208T160000Z
DTSTAMP:20220818T075315Z
UID:turn-dschungel-1-2023-02-08@onegov.event
CATEGORIES:Misc,Meetup
DESCRIPTION:Die Kinder können sich frei in der Turnhalle austoben. Wir er
 stellen einen Parcour für die Kinder bis ca. 6 Jahren und essen zusammen 
 das zvieri.\n\nWir freuen uns auf euch!
LAST-MODIFIED:20220818T075315Z
LOCATION:Lauerz
URL:https://www.lauerz.ch/event/turn-dschungel-1-2023-02-08
END:VEVENT
END:VCALENDAR
