BEGIN:VCALENDAR
VERSION:2.0
PRODID:-//OneGov//onegov.event//
BEGIN:VEVENT
SUMMARY:Rohrboden-Picknick & Biketour mit dem Vekehrsverein Lauerz
DTSTART:20220626T053000Z
DTEND:20220626T130000Z
DTSTAMP:20220610T055452Z
UID:rohrboden-picknick-biketour-mit-dem-vekehrsverein-lauerz-2022-06-26@on
 egov.event
CATEGORIES:Health,Meetup,Sports,Tourism
DESCRIPTION:Für die Sportlichen gibt es eine geführte Biketour. \nAbfahr
 t 7.30 Uhr Treffen beim Adlerplatz\nStefan Nietlisbach begleitet Euch von 
 Lauerz – Rigi Klösterli – Unterstetten – Scheidegg – Gätterlipas
 s – Feuerstelle Rohrboden. Die Fahrzeit beträgt ca. 2.5 h. Der Kaffeeha
 lt ist in Unterstetten geplant.\n\nab 10.30 Uhr Eintreffen auf dem Rohrbod
 en\nMitnehmen: Grilladen und Beilagen.\nGetränke\, Schlangenbrot zum selb
 er backen und der Kuchen\, werden vom Verkehrsverein Lauerz offeriert.\n\n
 Wir freuen uns auf zahlreiche Teilnehmende.
LAST-MODIFIED:20220610T055452Z
LOCATION:Feuerstelle Rohrboden\, Lauerz
URL:https://www.lauerz.ch/event/rohrboden-picknick-biketour-mit-dem-vekehr
 sverein-lauerz-2022-06-26
END:VEVENT
END:VCALENDAR
