BEGIN:VCALENDAR
VERSION:2.0
PRODID:-//OneGov//onegov.event//
BEGIN:VEVENT
SUMMARY:Mittagstisch mit anschliessendem Jassen
DTSTART:20260428T100000Z
DTEND:20260428T140000Z
DTSTAMP:20251105T174810Z
UID:mittagstisch-mit-anschliessendem-jassen-1-2026-04-28@onegov.event
CATEGORIES:Elderly
DESCRIPTION:\nMittagstisch mit anschliessendem Jassen.\n\nAnmeldung direkt
  an Rest. Waage -> 041 811 17 06\njeweils bis Sonntagabend.
LAST-MODIFIED:20251105T174810Z
LOCATION:Rest. Waage\, Lauerz
URL:https://www.lauerz.ch/event/mittagstisch-mit-anschliessendem-jassen-1-
 2026-04-28
END:VEVENT
END:VCALENDAR
