BEGIN:VCALENDAR
VERSION:2.0
PRODID:-//OneGov//onegov.event//
BEGIN:VEVENT
SUMMARY:Lauerz Rockt - Badi Lauerz
DTSTART:20250614T140000Z
DTEND:20250614T200000Z
DTSTAMP:20250602T055139Z
UID:lauerz-rockt-badi-lauerz-2025-06-14@onegov.event
CATEGORIES:Music,Party,Youth,Meetup,Nature,Concert,Culture,Tourism,Gastron
 omy
DESCRIPTION:Am Samstag\, 14. Juni ab 20.00 Uhr heizt Backcraft die Bühne 
 ein! \nKommt vorbei\, geniesst die Musik und stemmt euer Bier im Takt! \n\
 nBereits ab 16.00 Uhr gibt’s die perfekte Stärkung: \n\n🔥 Metaller N
 otation: Brot\, Bratwurst & 0.5l Bier – nur 12.- \n⚡ Metallerinnen Dip
 loma: Der erste gespritzte Wein geht aufs Haus – aber nur mit echten \n 
      Metal-Outfits! Netzstrümpfe\, Minirock & T-Shirt sind Pflicht! 🤘\
 n\nAlso\, schnappt euch eure Crew\, schmeisst euch in Schale und geniesst 
 mit uns einen tollen Abend voller guter Musik\, leckerem Essen und ordentl
 ich Stimmung! 🔥🍻🎶\n\nBis bald.\n
GEO:47.03343330118349;8.584138686974757
LAST-MODIFIED:20250602T055139Z
LOCATION:Badi Lauerz
URL:https://www.lauerz.ch/event/lauerz-rockt-badi-lauerz-2025-06-14
END:VEVENT
END:VCALENDAR
