BEGIN:VCALENDAR
VERSION:2.0
PRODID:-//OneGov//onegov.event//
BEGIN:VEVENT
SUMMARY:Kochen mit Irene
DTSTART:20240605T094500Z
DTEND:20240605T123000Z
DTSTAMP:20231024T082520Z
UID:kochen-mit-irene-1-2024-06-05@onegov.event
CATEGORIES:Youth,Meetup,Education,Gastronomy
DESCRIPTION:Weitere Infos unter https://freizeiterlebnislauerz.clubdesk.co
 m
GEO:47.03600948026477;8.578426228801735
LAST-MODIFIED:20231024T082520Z
LOCATION:Office Mehrzweckhalle Lauerz
URL:https://www.lauerz.ch/event/kochen-mit-irene-1-2024-06-05
END:VEVENT
END:VCALENDAR
