BEGIN:VCALENDAR
VERSION:2.0
PRODID:-//OneGov//onegov.event//
BEGIN:VEVENT
SUMMARY:ABGESAGT: Höck CVP
DTSTART:20201120T190000Z
DTEND:20201120T210000Z
DTSTAMP:20201103T065238Z
UID:hoeck-cvp-2020-11-20@onegov.event
CATEGORIES:Politics
DESCRIPTION:Die CVP lädt jeden dritten Freitag alle Mitbürgerinnen und M
 itbürger zu ihrem Höck ein und freut sich auf zahlreiches Erscheinen und
  Mitdiskutieren.
LAST-MODIFIED:20201103T065238Z
LOCATION:Vereinsraum 
URL:https://www.lauerz.ch/event/hoeck-cvp-2020-11-20
END:VEVENT
END:VCALENDAR
