BEGIN:VCALENDAR
VERSION:2.0
PRODID:-//OneGov//onegov.event//
BEGIN:VEVENT
SUMMARY:Halloween Suppe
DTSTART:20231031T170000Z
DTEND:20231031T190000Z
DTSTAMP:20230605T060333Z
UID:halloween-suppe-2023-10-31@onegov.event
CATEGORIES:Party,Youth,Meetup,Culture,Tradition,Gastronomy
DESCRIPTION:Keine Anmeldung nötig\, kommt vorbei und geniesst unsere selb
 stgemachte Halloweensuppe. Dazu gibts Lebkuchen\, Glühwein und Tee. Es is
 t das herbstliche Highlight für Kinder\, sich gruslig zu verkleiden und n
 ach Süssigkeiten zu betteln. Ein cooler Spruch darf dabei nicht fehlen. W
 ährend die Kinder ausschwärmen\, haben die Erwachsenen bei uns am warmen
  Feuer Zeit zum Plaudern. Natürlich dürfen sich auch die Grossen verklei
 den... Wir freuen uns auf viele Gruselgestalten und danken herzlich für e
 inen Zustupf in die Topfkollekte.\nWeitere Infos unter https://freizeiterl
 ebnislauerz.clubdesk.com
GEO:47.03422043216906;8.581721311518217
LAST-MODIFIED:20230605T060333Z
LOCATION:Gemeindeparkplatz Lauerz
URL:https://www.lauerz.ch/event/halloween-suppe-2023-10-31
END:VEVENT
END:VCALENDAR
