BEGIN:VCALENDAR
VERSION:2.0
PRODID:-//OneGov//onegov.event//
BEGIN:VEVENT
SUMMARY:GüDi Kinderfasnacht
DTSTART:20260217T050000Z
DTEND:20260217T170000Z
DTSTAMP:20250428T055016Z
UID:guedi-kinderfasnacht-2026-02-17@onegov.event
CATEGORIES:Music,Party,Youth,Culture,Tradition
DESCRIPTION:Um Punkt 06:00 Uhr startet die Gätterlifurzer mit dem Morgens
 treich in den Gassen von Lauerz. Anschliessend findet in der MZH um 13:00 
 Uhr ein kleines z'Mittag statt. 
LAST-MODIFIED:20250428T055016Z
LOCATION:Schulhausareal MZH
URL:https://www.lauerz.ch/event/guedi-kinderfasnacht-2026-02-17
END:VEVENT
END:VCALENDAR
