BEGIN:VCALENDAR
VERSION:2.0
PRODID:-//OneGov//onegov.event//
BEGIN:VEVENT
SUMMARY:Güdeldienstag
DTSTART:20260217T133000Z
DTEND:20260217T140000Z
DTSTAMP:20251030T062058Z
UID:guedeldienstag-2-2026-02-17@onegov.event
CATEGORIES:Music,Youth,Culture,Dancing,Tradition,Gastronomy
DESCRIPTION:Die Hasen besuchen die Festwirtschaft der Gätterlifurzer und 
 tanzen mit den Kindern! Kommt auch vorbei!\nWeitere Infos unter: https://h
 asen-rott-lauerz.ch/
GEO:47.03621523511843;8.578753617622258
LAST-MODIFIED:20251030T062058Z
LOCATION:Mehrzweckhalle Lauerz
URL:https://www.lauerz.ch/event/guedeldienstag-2-2026-02-17
END:VEVENT
END:VCALENDAR
