BEGIN:VCALENDAR
VERSION:2.0
PRODID:-//OneGov//onegov.event//
BEGIN:VEVENT
SUMMARY:Grillplausch Verein Kind und Eltern
DTSTART:20200902T130000Z
DTEND:20200902T180000Z
DTSTAMP:20190906T064404Z
UID:grillplausch-verein-kind-und-eltern-1-2020-09-02@onegov.event
CATEGORIES:Meetup,Gastronomy
DESCRIPTION:Der Verein Kind und Eltern lädt alle Lauerzer Eltern mit ihre
 n Kindern am Mittwoch\, 2. September 2020\, ab 15.00 Uhr in der Badi Lauer
 z zu Kaffee\, Kuchen\, Popcorn und Sirup ein. Auch Nicht-Mitglieder sind h
 erzlich willkommen! Bei warmem Wetter kann man noch im See baden oder sons
 t gibt es genug Spielmöglichkeiten für die Kinder.\nUm ca. 17.30 Uhr wir
 d die Feuerstelle eingeheizt. Mitnehmen: Grillfleisch und Beilagen\, Telle
 r und Besteck (die Getränke sind vorhanden). Der Anlass findet nur bei tr
 ockenem Wetter statt. Kommt doch auch zum gemütlichen Grillplausch!
GEO:47.03348473985357;8.584184723952776
LAST-MODIFIED:20190906T064404Z
LOCATION:Badi Lauerz
URL:https://www.lauerz.ch/event/grillplausch-verein-kind-und-eltern-1-2020
 -09-02
END:VEVENT
END:VCALENDAR
