BEGIN:VCALENDAR
VERSION:2.0
PRODID:-//OneGov//onegov.event//
BEGIN:VEVENT
SUMMARY:Genossengemeinde Lauerz
DTSTART:20260427T180000Z
DTEND:20260427T200000Z
DTSTAMP:20260303T101311Z
UID:genossengemeinde-lauerz-2026-04-27@onegov.event
CATEGORIES:Meetup,Tradition
DESCRIPTION:
LAST-MODIFIED:20260303T101311Z
LOCATION:kleiner Saal\, Lauerz
URL:https://www.lauerz.ch/event/genossengemeinde-lauerz-2026-04-27
END:VEVENT
END:VCALENDAR
