BEGIN:VCALENDAR
VERSION:2.0
PRODID:-//OneGov//onegov.event//
BEGIN:VEVENT
SUMMARY:Freizeit Erlebnis Lauerz - Cinema
DTSTART:20221207T130000Z
DTEND:20221207T153000Z
DTSTAMP:20220608T112453Z
UID:freizeit-erlebnis-lauerz-cinema-2022-12-07@onegov.event
CATEGORIES:Youth,Cinema,Culture,Gastronomy
DESCRIPTION:Kinoerlebnis in der Turnhalle. Weitere Infos unter www.freizei
 terlebnislauerz.clubdesk.com
GEO:47.035064156548884;8.58098861328821
LAST-MODIFIED:20220608T112453Z
LOCATION:Mehrzweckhalle Lauerz
URL:https://www.lauerz.ch/event/freizeit-erlebnis-lauerz-cinema-2022-12-07
END:VEVENT
END:VCALENDAR
