BEGIN:VCALENDAR
VERSION:2.0
PRODID:-//OneGov//onegov.event//
BEGIN:VEVENT
SUMMARY:De schnällscht Lauerzer 2021
DTSTART:20210912T060000Z
DTEND:20210912T160000Z
DTSTAMP:20210624T140135Z
UID:de-schnaellscht-lauerzer-2021-2021-09-12@onegov.event
CATEGORIES:Sports
DESCRIPTION:
LAST-MODIFIED:20210624T140135Z
LOCATION:MZH Lauerz
URL:https://www.lauerz.ch/event/de-schnaellscht-lauerzer-2021-2021-09-12
END:VEVENT
END:VCALENDAR
