BEGIN:VCALENDAR
VERSION:2.0
PRODID:-//OneGov//onegov.event//
BEGIN:VEVENT
SUMMARY:Abendwanderung mit anschl. Rösti-Plausch
DTSTART:20200124T180000Z
DTEND:20200124T210000Z
DTSTAMP:20191213T163849Z
UID:abendwanderung-mit-anschl-roesti-plausch-2020-01-24@onegov.event
CATEGORIES:
DESCRIPTION:Wir treffen uns um 19.00 Uhr bei der Kirche und je nach Wetter
  machen wir eine grössere oder kleinere Wanderung über den Segel. Anschl
 iessend gibts Rösti-Plausch im Restaurant Bauernhof. Anmelden bis am Mitt
 woch 22. Januar bei Theres Horat Tel. 041 810 12 82.
LAST-MODIFIED:20191213T163849Z
LOCATION:Lauerz
URL:https://www.lauerz.ch/event/abendwanderung-mit-anschl-roesti-plausch-2
 020-01-24
END:VEVENT
END:VCALENDAR
